BEGIN:VCALENDAR
VERSION:2.0
PRODID:-//NAMI CCNS - ECPv6.15.17.1//NONSGML v1.0//EN
CALSCALE:GREGORIAN
METHOD:PUBLISH
X-WR-CALNAME:NAMI CCNS
X-ORIGINAL-URL:https://www.namiccns.org
X-WR-CALDESC:Events for NAMI CCNS
REFRESH-INTERVAL;VALUE=DURATION:PT1H
X-Robots-Tag:noindex
X-PUBLISHED-TTL:PT1H
BEGIN:VTIMEZONE
TZID:America/Chicago
BEGIN:DAYLIGHT
TZOFFSETFROM:-0600
TZOFFSETTO:-0500
TZNAME:CDT
DTSTART:20230312T080000
END:DAYLIGHT
BEGIN:STANDARD
TZOFFSETFROM:-0500
TZOFFSETTO:-0600
TZNAME:CST
DTSTART:20231105T070000
END:STANDARD
BEGIN:DAYLIGHT
TZOFFSETFROM:-0600
TZOFFSETTO:-0500
TZNAME:CDT
DTSTART:20240310T080000
END:DAYLIGHT
BEGIN:STANDARD
TZOFFSETFROM:-0500
TZOFFSETTO:-0600
TZNAME:CST
DTSTART:20241103T070000
END:STANDARD
BEGIN:DAYLIGHT
TZOFFSETFROM:-0600
TZOFFSETTO:-0500
TZNAME:CDT
DTSTART:20250309T080000
END:DAYLIGHT
BEGIN:STANDARD
TZOFFSETFROM:-0500
TZOFFSETTO:-0600
TZNAME:CST
DTSTART:20251102T070000
END:STANDARD
END:VTIMEZONE
BEGIN:VEVENT
DTSTART;TZID=America/Chicago:20240417T190000
DTEND;TZID=America/Chicago:20240417T203000
DTSTAMP:20260421T222359
CREATED:20240305T192705Z
LAST-MODIFIED:20240305T192705Z
UID:10000023-1713380400-1713385800@www.namiccns.org
SUMMARY:Destigmatizing Schizophrenia\, With Matthew Filippo M.D.
DESCRIPTION:Destigmatizing Schizophrenia: A Comprehensive Overview of its Diagnosis and Management Webinar\nWith Matthew Filippo M.D. \nWhen: April 17\, 2024\, 07:00 PM Central Time \nSchizophrenia is a complex mental disorder that impacts several aspects of an individual’s life. How do genetic\, environmental\, and neurobiological factors contribute to the development of schizophrenia? Discuss the common symptoms\, diagnostic criteria\, and current treatment options available for schizophrenia. How does this disorder affect a person’s quality of life and what strategies can be implemented to support patients with schizophrenia in their daily lives? Explore the impact of societal perception and stigma surrounding schizophrenia. \nSponsored by the Glenview Public Library \nREGISTER HERE
URL:https://www.namiccns.org/calendar/schizophrenia-101-webinar/
CATEGORIES:Webinars
ORGANIZER;CN="Pete Krol Family and Friends and NAMI CCNS":MAILTO:admin@namiccns.org
END:VEVENT
END:VCALENDAR