BEGIN:VCALENDAR
VERSION:2.0
PRODID:-//NAMI CCNS - ECPv6.15.17.1//NONSGML v1.0//EN
CALSCALE:GREGORIAN
METHOD:PUBLISH
X-WR-CALNAME:NAMI CCNS
X-ORIGINAL-URL:https://www.namiccns.org
X-WR-CALDESC:Events for NAMI CCNS
REFRESH-INTERVAL;VALUE=DURATION:PT1H
X-Robots-Tag:noindex
X-PUBLISHED-TTL:PT1H
BEGIN:VTIMEZONE
TZID:America/Chicago
BEGIN:DAYLIGHT
TZOFFSETFROM:-0600
TZOFFSETTO:-0500
TZNAME:CDT
DTSTART:20230312T080000
END:DAYLIGHT
BEGIN:STANDARD
TZOFFSETFROM:-0500
TZOFFSETTO:-0600
TZNAME:CST
DTSTART:20231105T070000
END:STANDARD
BEGIN:DAYLIGHT
TZOFFSETFROM:-0600
TZOFFSETTO:-0500
TZNAME:CDT
DTSTART:20240310T080000
END:DAYLIGHT
BEGIN:STANDARD
TZOFFSETFROM:-0500
TZOFFSETTO:-0600
TZNAME:CST
DTSTART:20241103T070000
END:STANDARD
BEGIN:DAYLIGHT
TZOFFSETFROM:-0600
TZOFFSETTO:-0500
TZNAME:CDT
DTSTART:20250309T080000
END:DAYLIGHT
BEGIN:STANDARD
TZOFFSETFROM:-0500
TZOFFSETTO:-0600
TZNAME:CST
DTSTART:20251102T070000
END:STANDARD
END:VTIMEZONE
BEGIN:VEVENT
DTSTART;TZID=America/Chicago:20240522T190000
DTEND;TZID=America/Chicago:20240522T203000
DTSTAMP:20260421T205457
CREATED:20240326T171906Z
LAST-MODIFIED:20240326T171906Z
UID:10000028-1716404400-1716409800@www.namiccns.org
SUMMARY:Personality Disorders Webinar\, With Meghan Rosenzweig LCPC
DESCRIPTION:Personality Disorders: Persistently Stigmatized Webinar\nWith Meghan Rosenzweig LCPC\nMay 22\, 2024\, 07:00 PM Central Time \nThis webinar is designed to assist with the destigmatization of those who have been given a diagnosis of a personality disorder. We will explore how to best assist in setting boundaries\, de-escalating a crisis\, and providing ongoing care to reduce the need for the cyclical nature of hospitalization and refusal of care that often is associated with the diagnosis of a personality disorder. This webinar will also provide the basic information on diagnostic criteria for the primary personality disorders seen in most therapeutic settings.  \nObjectives: \n\nBetter understand how to support and encourage growth for those who have been given a diagnosis of a persistent personality disorder.\nProvide information in better understanding how to de-stigmatize and provide support to those with a diagnosis or presenting traits of personality disorders in our communities.\nBetter understand what a personality disorder is and how it presents and impacts an individual in the community.\n\nSponsored by the Skokie Public Library \nREGISTER HERE
URL:https://www.namiccns.org/calendar/personality-disorders-webinar/
CATEGORIES:Webinars
ATTACH;FMTTYPE=image/jpeg:https://www.namiccns.org/wp-content/uploads/2024/03/Webinar-EmailWebsite-Post-3.jpg
ORGANIZER;CN="Pete Krol Family and Friends and NAMI CCNS":MAILTO:admin@namiccns.org
END:VEVENT
END:VCALENDAR