BEGIN:VCALENDAR
VERSION:2.0
PRODID:-//NAMI CCNS - ECPv6.15.17.1//NONSGML v1.0//EN
CALSCALE:GREGORIAN
METHOD:PUBLISH
X-WR-CALNAME:NAMI CCNS
X-ORIGINAL-URL:https://www.namiccns.org
X-WR-CALDESC:Events for NAMI CCNS
REFRESH-INTERVAL;VALUE=DURATION:PT1H
X-Robots-Tag:noindex
X-PUBLISHED-TTL:PT1H
BEGIN:VTIMEZONE
TZID:America/Chicago
BEGIN:DAYLIGHT
TZOFFSETFROM:-0600
TZOFFSETTO:-0500
TZNAME:CDT
DTSTART:20230312T080000
END:DAYLIGHT
BEGIN:STANDARD
TZOFFSETFROM:-0500
TZOFFSETTO:-0600
TZNAME:CST
DTSTART:20231105T070000
END:STANDARD
BEGIN:DAYLIGHT
TZOFFSETFROM:-0600
TZOFFSETTO:-0500
TZNAME:CDT
DTSTART:20240310T080000
END:DAYLIGHT
BEGIN:STANDARD
TZOFFSETFROM:-0500
TZOFFSETTO:-0600
TZNAME:CST
DTSTART:20241103T070000
END:STANDARD
BEGIN:DAYLIGHT
TZOFFSETFROM:-0600
TZOFFSETTO:-0500
TZNAME:CDT
DTSTART:20250309T080000
END:DAYLIGHT
BEGIN:STANDARD
TZOFFSETFROM:-0500
TZOFFSETTO:-0600
TZNAME:CST
DTSTART:20251102T070000
END:STANDARD
END:VTIMEZONE
BEGIN:VEVENT
DTSTART;TZID=America/Chicago:20240619T190000
DTEND;TZID=America/Chicago:20240619T203000
DTSTAMP:20260421T193954
CREATED:20240305T193208Z
LAST-MODIFIED:20240305T193208Z
UID:10000024-1718823600-1718829000@www.namiccns.org
SUMMARY:Understanding Trauma Webinar\, With Milica Popović LCSW
DESCRIPTION:Understanding Trauma: Causes\, Impacts\, and Paths to Post-Traumatic Growth Webinar\nWith Milica Popović LCSW & CADC\nJune 19\, 2024\, 07:00 PM \nDescription: Trauma is a pervasive experience that can have profound effects on an individuals’ physiological\, psychological\, social\, and emotional wellbeing. Understanding its nature\, causes and impacts is crucial for effective intervention and support. \nObjectives: \nThis presentation aims to educate the audience on the multifaceted nature of trauma by examining its manifestations and differentiating between stress\, acute-stress disorder\, PTSD\, and C-PTSD. By exploring effective treatment options and highlighting the concept of post-traumatic growth\, this presentation also seeks to foster a compassionate and informed approach to addressing trauma and promoting pathways to recovery and growth. \nSponsored by the Skokie Public Library \nREGISTER HERE
URL:https://www.namiccns.org/calendar/understanding-trauma-webinar/
CATEGORIES:Webinars
ATTACH;FMTTYPE=image/jpeg:https://www.namiccns.org/wp-content/uploads/2024/03/Webinar-EmailWebsite-Post-2.jpg
ORGANIZER;CN="Pete Krol Family and Friends and NAMI CCNS":MAILTO:admin@namiccns.org
END:VEVENT
END:VCALENDAR