BEGIN:VCALENDAR
VERSION:2.0
PRODID:-//NAMI CCNS - ECPv6.15.17.1//NONSGML v1.0//EN
CALSCALE:GREGORIAN
METHOD:PUBLISH
X-ORIGINAL-URL:https://www.namiccns.org
X-WR-CALDESC:Events for NAMI CCNS
REFRESH-INTERVAL;VALUE=DURATION:PT1H
X-Robots-Tag:noindex
X-PUBLISHED-TTL:PT1H
BEGIN:VTIMEZONE
TZID:America/Chicago
BEGIN:DAYLIGHT
TZOFFSETFROM:-0600
TZOFFSETTO:-0500
TZNAME:CDT
DTSTART:20230312T080000
END:DAYLIGHT
BEGIN:STANDARD
TZOFFSETFROM:-0500
TZOFFSETTO:-0600
TZNAME:CST
DTSTART:20231105T070000
END:STANDARD
BEGIN:DAYLIGHT
TZOFFSETFROM:-0600
TZOFFSETTO:-0500
TZNAME:CDT
DTSTART:20240310T080000
END:DAYLIGHT
BEGIN:STANDARD
TZOFFSETFROM:-0500
TZOFFSETTO:-0600
TZNAME:CST
DTSTART:20241103T070000
END:STANDARD
BEGIN:DAYLIGHT
TZOFFSETFROM:-0600
TZOFFSETTO:-0500
TZNAME:CDT
DTSTART:20250309T080000
END:DAYLIGHT
BEGIN:STANDARD
TZOFFSETFROM:-0500
TZOFFSETTO:-0600
TZNAME:CST
DTSTART:20251102T070000
END:STANDARD
END:VTIMEZONE
BEGIN:VEVENT
DTSTART;TZID=America/Chicago:20240724T190000
DTEND;TZID=America/Chicago:20240724T203000
DTSTAMP:20260421T181343
CREATED:20240305T193352Z
LAST-MODIFIED:20240305T193352Z
UID:10005373-1721847600-1721853000@www.namiccns.org
SUMMARY:Eating Disorders 101 Webinar\, With Maria Rago
DESCRIPTION:Eating Disorders 101\nWith Maria Rago\, Board President of ANAD\nJuly 24\, 2024\, 07:00 PM \nDescription: Eating Disorders are both common and dangerous. What percentage of your time do you spend thinking about food\, weight and body image issues in your life? This continuum has normal eating on the one side\, and Anorexia\, Bulimia\, Binge Eating Disorder and ED NOS on the other. EDs often coexist with other mental health disorders such as depression\, obsessive compulsive disorder\, anxiety disorder and substance abuse disorders. In addition\, ARFID is a more recently noted eating disorder\, in which body image issues are often not present\, but rigidity of eating and sensitivity to food texture are seen. Questions and discussion are welcome in the last 30 minutes! \nObjectives: \n\nLearn what are the common eating disorders and how common they are.\nUnderstand the interaction between EDs and other coexisting mental health disorders.\nUnderstand the treatment of eating disorders and how recovery can be successful for many people!\n\nSponsored by the Wilmette Public Library \nREGISTER HERE
URL:https://www.namiccns.org/calendar/eating-disorders-101-webinar-2/
CATEGORIES:Webinars
ATTACH;FMTTYPE=image/jpeg:https://www.namiccns.org/wp-content/uploads/2024/03/Webinar-EmailWebsite-Post-4.jpg
ORGANIZER;CN="Pete Krol Family and Friends and NAMI CCNS":MAILTO:admin@namiccns.org
END:VEVENT
END:VCALENDAR