BEGIN:VCALENDAR
VERSION:2.0
PRODID:-//NAMI CCNS - ECPv6.15.17.1//NONSGML v1.0//EN
CALSCALE:GREGORIAN
METHOD:PUBLISH
X-ORIGINAL-URL:https://www.namiccns.org
X-WR-CALDESC:Events for NAMI CCNS
REFRESH-INTERVAL;VALUE=DURATION:PT1H
X-Robots-Tag:noindex
X-PUBLISHED-TTL:PT1H
BEGIN:VTIMEZONE
TZID:America/Chicago
BEGIN:DAYLIGHT
TZOFFSETFROM:-0600
TZOFFSETTO:-0500
TZNAME:CDT
DTSTART:20230312T080000
END:DAYLIGHT
BEGIN:STANDARD
TZOFFSETFROM:-0500
TZOFFSETTO:-0600
TZNAME:CST
DTSTART:20231105T070000
END:STANDARD
BEGIN:DAYLIGHT
TZOFFSETFROM:-0600
TZOFFSETTO:-0500
TZNAME:CDT
DTSTART:20240310T080000
END:DAYLIGHT
BEGIN:STANDARD
TZOFFSETFROM:-0500
TZOFFSETTO:-0600
TZNAME:CST
DTSTART:20241103T070000
END:STANDARD
BEGIN:DAYLIGHT
TZOFFSETFROM:-0600
TZOFFSETTO:-0500
TZNAME:CDT
DTSTART:20250309T080000
END:DAYLIGHT
BEGIN:STANDARD
TZOFFSETFROM:-0500
TZOFFSETTO:-0600
TZNAME:CST
DTSTART:20251102T070000
END:STANDARD
END:VTIMEZONE
BEGIN:VEVENT
DTSTART;TZID=America/Chicago:20241023T190000
DTEND;TZID=America/Chicago:20241023T203000
DTSTAMP:20260421T142222
CREATED:20240717T154927Z
LAST-MODIFIED:20240717T154927Z
UID:10000035-1729710000-1729715400@www.namiccns.org
SUMMARY:Attention-Deficit/Hyperactivity Disorder: Adults and Kids\, With Joshua Nathan\, Psychiatrist
DESCRIPTION:Attention-Deficit/Hyperactivity Disorder: Adults and Kids\nWith Joshua Nathan\, Psychiatrist\nOctober 23\, 2024\, 7:00 PM Central Time \nDescription: This presentation will give an overview of the symptoms\, diagnostic process and treatment of Attention-Deficit/Hyperactivity Disorder (ADHD) in adults and minors. I will try to explain the complexities in diagnosing and treating ADHD\, and well as dispel some myths related to this disorder. Additional resources of information about the disorder will also be shared. \nSponsored by the Des Plaines Public Library \nREGISTER HERE
URL:https://www.namiccns.org/calendar/attention-deficit-hyperactivity-disorder-adults-and-kids-with-joshua-nathan-psychiatrist/
CATEGORIES:Webinars
ATTACH;FMTTYPE=image/jpeg:https://www.namiccns.org/wp-content/uploads/2024/07/14.jpg
ORGANIZER;CN="Pete Krol Family and Friends and NAMI CCNS":MAILTO:admin@namiccns.org
END:VEVENT
BEGIN:VEVENT
DTSTART;TZID=America/Chicago:20241023T190000
DTEND;TZID=America/Chicago:20241023T203000
DTSTAMP:20260421T142222
CREATED:20240717T154927Z
LAST-MODIFIED:20240717T154927Z
UID:10005383-1729710000-1729715400@www.namiccns.org
SUMMARY:Attention-Deficit/Hyperactivity Disorder: Adults and Kids\, With Joshua Nathan\, Psychiatrist
DESCRIPTION:Attention-Deficit/Hyperactivity Disorder: Adults and Kids\nWith Joshua Nathan\, Psychiatrist\nOctober 23\, 2024\, 7:00 PM Central Time \nDescription: This presentation will give an overview of the symptoms\, diagnostic process and treatment of Attention-Deficit/Hyperactivity Disorder (ADHD) in adults and minors. I will try to explain the complexities in diagnosing and treating ADHD\, and well as dispel some myths related to this disorder. Additional resources of information about the disorder will also be shared. \nSponsored by the Des Plaines Public Library \nREGISTER HERE
URL:https://www.namiccns.org/calendar/attention-deficit-hyperactivity-disorder-adults-and-kids-with-joshua-nathan-psychiatrist-2/
CATEGORIES:Webinars
ATTACH;FMTTYPE=image/jpeg:https://www.namiccns.org/wp-content/uploads/2024/07/14.jpg
ORGANIZER;CN="Pete Krol Family and Friends and NAMI CCNS":MAILTO:admin@namiccns.org
END:VEVENT
END:VCALENDAR