BEGIN:VCALENDAR
VERSION:2.0
PRODID:-//NAMI CCNS - ECPv6.15.17.1//NONSGML v1.0//EN
CALSCALE:GREGORIAN
METHOD:PUBLISH
X-ORIGINAL-URL:https://www.namiccns.org
X-WR-CALDESC:Events for NAMI CCNS
REFRESH-INTERVAL;VALUE=DURATION:PT1H
X-Robots-Tag:noindex
X-PUBLISHED-TTL:PT1H
BEGIN:VTIMEZONE
TZID:America/Chicago
BEGIN:DAYLIGHT
TZOFFSETFROM:-0600
TZOFFSETTO:-0500
TZNAME:CDT
DTSTART:20230312T080000
END:DAYLIGHT
BEGIN:STANDARD
TZOFFSETFROM:-0500
TZOFFSETTO:-0600
TZNAME:CST
DTSTART:20231105T070000
END:STANDARD
BEGIN:DAYLIGHT
TZOFFSETFROM:-0600
TZOFFSETTO:-0500
TZNAME:CDT
DTSTART:20240310T080000
END:DAYLIGHT
BEGIN:STANDARD
TZOFFSETFROM:-0500
TZOFFSETTO:-0600
TZNAME:CST
DTSTART:20241103T070000
END:STANDARD
BEGIN:DAYLIGHT
TZOFFSETFROM:-0600
TZOFFSETTO:-0500
TZNAME:CDT
DTSTART:20250309T080000
END:DAYLIGHT
BEGIN:STANDARD
TZOFFSETFROM:-0500
TZOFFSETTO:-0600
TZNAME:CST
DTSTART:20251102T070000
END:STANDARD
END:VTIMEZONE
BEGIN:VEVENT
DTSTART;TZID=America/Chicago:20241218T190000
DTEND;TZID=America/Chicago:20241218T203000
DTSTAMP:20260421T093921
CREATED:20241017T194145Z
LAST-MODIFIED:20241017T194145Z
UID:10000038-1734548400-1734553800@www.namiccns.org
SUMMARY:Mental Health Stigma and What You Can Do Today\, With Brittney Fair (MSW & APSW)
DESCRIPTION:Mental Health Stigma and What You Can Do Today\nWith Brittney Fair\, MSW\, APSW\nDecember 18\, 2024\, 7:00 PM Central Time \nDescription: This presentation delves in the WISE program “Safe Person.” Understanding what it means to be a safe and supportive person to those who may have mental health challenges. The presentation walks through the Seven promises for someone\, so they know how to show up for others\, if they choose to be a safe person. Allows people to decide on how they want to show up and highlights what you can do today not only for yourself but also others to keep the conversation of mental health going. \nSponsored by the Norridge Public Library \nREGISTER HERE
URL:https://www.namiccns.org/calendar/mental-health-stigma-and-what-you-can-do-today-with-brittney-fair-msw-apsw/
CATEGORIES:Webinars
ATTACH;FMTTYPE=image/jpeg:https://www.namiccns.org/wp-content/uploads/2024/10/16.jpg
ORGANIZER;CN="Pete Krol Family and Friends and NAMI CCNS":MAILTO:admin@namiccns.org
END:VEVENT
BEGIN:VEVENT
DTSTART;TZID=America/Chicago:20241218T190000
DTEND;TZID=America/Chicago:20241218T203000
DTSTAMP:20260421T093921
CREATED:20241017T194145Z
LAST-MODIFIED:20241017T194145Z
UID:10005386-1734548400-1734553800@www.namiccns.org
SUMMARY:Mental Health Stigma and What You Can Do Today\, With Brittney Fair (MSW & APSW)
DESCRIPTION:Mental Health Stigma and What You Can Do Today\nWith Brittney Fair\, MSW\, APSW\nDecember 18\, 2024\, 7:00 PM Central Time \nDescription: This presentation delves in the WISE program “Safe Person.” Understanding what it means to be a safe and supportive person to those who may have mental health challenges. The presentation walks through the Seven promises for someone\, so they know how to show up for others\, if they choose to be a safe person. Allows people to decide on how they want to show up and highlights what you can do today not only for yourself but also others to keep the conversation of mental health going. \nSponsored by the Norridge Public Library \nREGISTER HERE
URL:https://www.namiccns.org/calendar/mental-health-stigma-and-what-you-can-do-today-with-brittney-fair-msw-apsw-2/
CATEGORIES:Webinars
ATTACH;FMTTYPE=image/jpeg:https://www.namiccns.org/wp-content/uploads/2024/10/16.jpg
ORGANIZER;CN="Pete Krol Family and Friends and NAMI CCNS":MAILTO:admin@namiccns.org
END:VEVENT
END:VCALENDAR