BEGIN:VCALENDAR
VERSION:2.0
PRODID:-//NAMI CCNS - ECPv6.15.17.1//NONSGML v1.0//EN
CALSCALE:GREGORIAN
METHOD:PUBLISH
X-WR-CALNAME:NAMI CCNS
X-ORIGINAL-URL:https://www.namiccns.org
X-WR-CALDESC:Events for NAMI CCNS
REFRESH-INTERVAL;VALUE=DURATION:PT1H
X-Robots-Tag:noindex
X-PUBLISHED-TTL:PT1H
BEGIN:VTIMEZONE
TZID:America/Chicago
BEGIN:DAYLIGHT
TZOFFSETFROM:-0600
TZOFFSETTO:-0500
TZNAME:CDT
DTSTART:20240310T080000
END:DAYLIGHT
BEGIN:STANDARD
TZOFFSETFROM:-0500
TZOFFSETTO:-0600
TZNAME:CST
DTSTART:20241103T070000
END:STANDARD
BEGIN:DAYLIGHT
TZOFFSETFROM:-0600
TZOFFSETTO:-0500
TZNAME:CDT
DTSTART:20250309T080000
END:DAYLIGHT
BEGIN:STANDARD
TZOFFSETFROM:-0500
TZOFFSETTO:-0600
TZNAME:CST
DTSTART:20251102T070000
END:STANDARD
BEGIN:DAYLIGHT
TZOFFSETFROM:-0600
TZOFFSETTO:-0500
TZNAME:CDT
DTSTART:20260308T080000
END:DAYLIGHT
BEGIN:STANDARD
TZOFFSETFROM:-0500
TZOFFSETTO:-0600
TZNAME:CST
DTSTART:20261101T070000
END:STANDARD
END:VTIMEZONE
BEGIN:VEVENT
DTSTART;TZID=America/Chicago:20250122T190000
DTEND;TZID=America/Chicago:20250122T203000
DTSTAMP:20260421T081003
CREATED:20241218T181731Z
LAST-MODIFIED:20241218T181731Z
UID:10000039-1737572400-1737577800@www.namiccns.org
SUMMARY:Bridging the Gap: The Value of Virtual Therapy\, With Shawnna Puteney and Anastasia Theisen
DESCRIPTION:Bridging the Gap: The Value of Virtual Therapy Webinar\nWith Shawnna Puteney (MS\, LPC\, LPCC\, NCC) and Anastasia Theisen (LMF) of Charlie Health\nJanuary 22\, 2025\, 07:00 PM Central Time \nThe presentation explores the transformative potential of virtual care in expanding access to healthcare\, improving patient outcomes\, and enhancing efficiency for providers. Virtual care is presented as a solution to address barriers such as geographical limitations\, provider shortages\, and patient convenience while maintaining quality and personalized care. The discussion covers how virtual care promotes equitable access\, enables innovative care models\, and supports integrated care through advanced technology. Evidence-based insights demonstrate how virtual care reduces costs\, increases patient satisfaction\, and optimizes provider workflow. The presentation concludes by advocating for the integration of virtual care into healthcare systems as a sustainable and effective approach to meeting the demands of modern healthcare. \nObjectives: \n\nUnderstanding what virtual therapy is and what to expect when exploring virtual therapy as a treatment option.\nObtain information on the benefits of virtual therapy.\n\nREGISTER HERE
URL:https://www.namiccns.org/calendar/bridging-the-gap-the-value-of-virtual-therapy-with-shawna-puteney-and-anastasia-theisen/
CATEGORIES:Webinars
ATTACH;FMTTYPE=image/png:https://www.namiccns.org/wp-content/uploads/2024/12/Webinar-EmailWebsite-Post.png
ORGANIZER;CN="Pete Krol Family and Friends and NAMI CCNS":MAILTO:admin@namiccns.org
END:VEVENT
BEGIN:VEVENT
DTSTART;TZID=America/Chicago:20250122T190000
DTEND;TZID=America/Chicago:20250122T203000
DTSTAMP:20260421T081003
CREATED:20241218T181731Z
LAST-MODIFIED:20241218T181731Z
UID:10005387-1737572400-1737577800@www.namiccns.org
SUMMARY:Bridging the Gap: The Value of Virtual Therapy\, With Shawnna Puteney and Anastasia Theisen
DESCRIPTION:Bridging the Gap: The Value of Virtual Therapy Webinar\nWith Shawnna Puteney (MS\, LPC\, LPCC\, NCC) and Anastasia Theisen (LMF) of Charlie Health\nJanuary 22\, 2025\, 07:00 PM Central Time \nThe presentation explores the transformative potential of virtual care in expanding access to healthcare\, improving patient outcomes\, and enhancing efficiency for providers. Virtual care is presented as a solution to address barriers such as geographical limitations\, provider shortages\, and patient convenience while maintaining quality and personalized care. The discussion covers how virtual care promotes equitable access\, enables innovative care models\, and supports integrated care through advanced technology. Evidence-based insights demonstrate how virtual care reduces costs\, increases patient satisfaction\, and optimizes provider workflow. The presentation concludes by advocating for the integration of virtual care into healthcare systems as a sustainable and effective approach to meeting the demands of modern healthcare. \nObjectives: \n\nUnderstanding what virtual therapy is and what to expect when exploring virtual therapy as a treatment option.\nObtain information on the benefits of virtual therapy.\n\nREGISTER HERE
URL:https://www.namiccns.org/calendar/bridging-the-gap-the-value-of-virtual-therapy-with-shawna-puteney-and-anastasia-theisen-2/
CATEGORIES:Webinars
ATTACH;FMTTYPE=image/png:https://www.namiccns.org/wp-content/uploads/2024/12/Webinar-EmailWebsite-Post.png
ORGANIZER;CN="Pete Krol Family and Friends and NAMI CCNS":MAILTO:admin@namiccns.org
END:VEVENT
END:VCALENDAR