BEGIN:VCALENDAR
VERSION:2.0
PRODID:-//NAMI CCNS - ECPv6.15.17.1//NONSGML v1.0//EN
CALSCALE:GREGORIAN
METHOD:PUBLISH
X-ORIGINAL-URL:https://www.namiccns.org
X-WR-CALDESC:Events for NAMI CCNS
REFRESH-INTERVAL;VALUE=DURATION:PT1H
X-Robots-Tag:noindex
X-PUBLISHED-TTL:PT1H
BEGIN:VTIMEZONE
TZID:America/Chicago
BEGIN:DAYLIGHT
TZOFFSETFROM:-0600
TZOFFSETTO:-0500
TZNAME:CDT
DTSTART:20240310T080000
END:DAYLIGHT
BEGIN:STANDARD
TZOFFSETFROM:-0500
TZOFFSETTO:-0600
TZNAME:CST
DTSTART:20241103T070000
END:STANDARD
BEGIN:DAYLIGHT
TZOFFSETFROM:-0600
TZOFFSETTO:-0500
TZNAME:CDT
DTSTART:20250309T080000
END:DAYLIGHT
BEGIN:STANDARD
TZOFFSETFROM:-0500
TZOFFSETTO:-0600
TZNAME:CST
DTSTART:20251102T070000
END:STANDARD
BEGIN:DAYLIGHT
TZOFFSETFROM:-0600
TZOFFSETTO:-0500
TZNAME:CDT
DTSTART:20260308T080000
END:DAYLIGHT
BEGIN:STANDARD
TZOFFSETFROM:-0500
TZOFFSETTO:-0600
TZNAME:CST
DTSTART:20261101T070000
END:STANDARD
END:VTIMEZONE
BEGIN:VEVENT
DTSTART;TZID=America/Chicago:20250219T190000
DTEND;TZID=America/Chicago:20250219T203000
DTSTAMP:20260421T064308
CREATED:20250127T163420Z
LAST-MODIFIED:20250127T163420Z
UID:10000042-1739991600-1739997000@www.namiccns.org
SUMMARY:Understanding Seasonal Affective Disorder\, With Jaunai Parson-Moore
DESCRIPTION:It’s Dark at 4pm. Now\, What? Understanding Seasonal Affective Disorder Webinar\nWith Jaunai Parson-Moore\, MA\, LPC\, NCC: Turning Point\nFebruary 19\, 2025\, 07:00 PM Central Time \nFor some\, the transition to colder seasons means major shifts in emotional and physical wellbeing. This workshop will provide an overview of Seasonal Affective Disorder (SAD) and its multifaceted impact. Through this webinar style experience\, information will be provided on symptoms\, demographics\, and identified treatment methods of SAD. \nIn this presentation\, participants will… \n\nLearn diagnostic criteria of Seasonal Affective Disorder.\nDeepen understanding of Seasonal Affective Disorder’s impact on holistic wellness\n\nREGISTER HERE
URL:https://www.namiccns.org/calendar/understanding-seasonal-affective-disorder-with-jaunai-parson-moore/
CATEGORIES:Webinars
ATTACH;FMTTYPE=image/jpeg:https://www.namiccns.org/wp-content/uploads/2025/01/Webinar-EmailWebsite-Post.jpg
ORGANIZER;CN="Pete Krol Family and Friends and NAMI CCNS":MAILTO:admin@namiccns.org
END:VEVENT
END:VCALENDAR