BEGIN:VCALENDAR
VERSION:2.0
PRODID:-//NAMI CCNS - ECPv6.15.17.1//NONSGML v1.0//EN
CALSCALE:GREGORIAN
METHOD:PUBLISH
X-ORIGINAL-URL:https://www.namiccns.org
X-WR-CALDESC:Events for NAMI CCNS
REFRESH-INTERVAL;VALUE=DURATION:PT1H
X-Robots-Tag:noindex
X-PUBLISHED-TTL:PT1H
BEGIN:VTIMEZONE
TZID:America/Chicago
BEGIN:DAYLIGHT
TZOFFSETFROM:-0600
TZOFFSETTO:-0500
TZNAME:CDT
DTSTART:20230312T080000
END:DAYLIGHT
BEGIN:STANDARD
TZOFFSETFROM:-0500
TZOFFSETTO:-0600
TZNAME:CST
DTSTART:20231105T070000
END:STANDARD
BEGIN:DAYLIGHT
TZOFFSETFROM:-0600
TZOFFSETTO:-0500
TZNAME:CDT
DTSTART:20240310T080000
END:DAYLIGHT
BEGIN:STANDARD
TZOFFSETFROM:-0500
TZOFFSETTO:-0600
TZNAME:CST
DTSTART:20241103T070000
END:STANDARD
BEGIN:DAYLIGHT
TZOFFSETFROM:-0600
TZOFFSETTO:-0500
TZNAME:CDT
DTSTART:20250309T080000
END:DAYLIGHT
BEGIN:STANDARD
TZOFFSETFROM:-0500
TZOFFSETTO:-0600
TZNAME:CST
DTSTART:20251102T070000
END:STANDARD
END:VTIMEZONE
BEGIN:VEVENT
DTSTART;TZID=America/Chicago:20240605T183000
DTEND;TZID=America/Chicago:20240605T210000
DTSTAMP:20260422T185725
CREATED:20240401T165114Z
LAST-MODIFIED:20240401T165114Z
UID:10000029-1717612200-1717621200@www.namiccns.org
SUMMARY:Family-to-Family Educational Program | In-Person - June 5 - July 31 @ 6:30PM
DESCRIPTION:Do You Have A Loved One Living With Mental Illness?\nThe NAMI Family-to-Family Education Program is a FREE 8-week course for families and close friends of adults with mental illness. This course is taught by trained teachers who are also family members and know what it is like to have a loved one living with mental illness\, such as major depression\, bipolar disorder\, anxiety disorders\, schizophrenia\, and other disorders. \nMany family members describe this experience as life changing. Join the thousands of families\, just like yours\, who have gained information\, understanding\, and support. \nWhat you will gain:\n\nLearn about family responses to the trauma of mental illness.\nReceive current information on serious mental illnesses.\nLearn about symptoms\, medications\, and side effects.\nPractice problem-solving skills and communication techniques.\nDevelop strategies for handling crises and relapses.\nLearn about local community resources and supports.\nFocus on self-care and coping with stress.\n\nSummer 2024 Class Details: \nDates: Wednesdays\, June 5 – July 31\, 2024 \nLocation: St. Joseph’s Catholic Church (Community Room)- 1747 Lake Ave. Wilmette\, IL \nTime: 6:30 – 9:00 PM \nREGISTRATION IS REQUIRED: FILL OUT FORM HERE
URL:https://www.namiccns.org/calendar/family-to-family-summer-2024/2024-06-05/
LOCATION:St. Joseph’s Catholic Church\, 1747 Lake Avenue\, Wilmette\, IL\, 60091\, United States
CATEGORIES:Classes
ORGANIZER;CN="Pete Krol Family and Friends and NAMI CCNS":MAILTO:admin@namiccns.org
END:VEVENT
END:VCALENDAR