BEGIN:VCALENDAR
VERSION:2.0
PRODID:-//NAMI CCNS - ECPv6.15.17.1//NONSGML v1.0//EN
CALSCALE:GREGORIAN
METHOD:PUBLISH
X-WR-CALNAME:NAMI CCNS
X-ORIGINAL-URL:https://www.namiccns.org
X-WR-CALDESC:Events for NAMI CCNS
REFRESH-INTERVAL;VALUE=DURATION:PT1H
X-Robots-Tag:noindex
X-PUBLISHED-TTL:PT1H
BEGIN:VTIMEZONE
TZID:America/Chicago
BEGIN:DAYLIGHT
TZOFFSETFROM:-0600
TZOFFSETTO:-0500
TZNAME:CDT
DTSTART:20250309T080000
END:DAYLIGHT
BEGIN:STANDARD
TZOFFSETFROM:-0500
TZOFFSETTO:-0600
TZNAME:CST
DTSTART:20251102T070000
END:STANDARD
BEGIN:DAYLIGHT
TZOFFSETFROM:-0600
TZOFFSETTO:-0500
TZNAME:CDT
DTSTART:20260308T080000
END:DAYLIGHT
BEGIN:STANDARD
TZOFFSETFROM:-0500
TZOFFSETTO:-0600
TZNAME:CST
DTSTART:20261101T070000
END:STANDARD
BEGIN:DAYLIGHT
TZOFFSETFROM:-0600
TZOFFSETTO:-0500
TZNAME:CDT
DTSTART:20270314T080000
END:DAYLIGHT
BEGIN:STANDARD
TZOFFSETFROM:-0500
TZOFFSETTO:-0600
TZNAME:CST
DTSTART:20271107T070000
END:STANDARD
END:VTIMEZONE
BEGIN:VEVENT
DTSTART;TZID=America/Chicago:20260502T170000
DTEND;TZID=America/Chicago:20260502T200000
DTSTAMP:20260421T053728
CREATED:20260224T203415Z
LAST-MODIFIED:20260326T222949Z
UID:10008002-1777741200-1777752000@www.namiccns.org
SUMMARY:Spring Gala 2026
DESCRIPTION:Racing for Hope \n\nA Night of Help & Healing \nMay 2nd\, 2026\nSunset Ridge Country Club\n\n\nThe evening supports NAMI CCNS’s work in 19 communities across the North Suburban Chicago area. Join us for a night of conversations that break barriers and stigma-fighting advocacy as we bring Hope\, Health\, and Healing to our community. \n\n\n\nEvent Details\nLocation:\nSunset Ridge Country Club\n2100 Sunset Ridge Road\nNorthfield\, IL 60093 \nTheme:\n152nd Kentucky Derby Inspired \n\n\nEvening Schedule\nRegistration\n4:45 PM\nCocktails\n5:00 – 6:00 PM\n152nd Kentucky Derby\n5:57 PM\nProgram and Dinner\n6:00 – 8:00 PM\n\n\n\nCLICK HERE TO BUY TICKETS\, TABLES or SPONSORSHIPS  NOW!  \nor use the QR code below
URL:https://www.namiccns.org/calendar/spring-gala-2026/
LOCATION:Sunset Ridge Country Club\, 2100 Sunset Ridge Road\, Northfield\, IL\, 60093\, United States
CATEGORIES:Fundraising Events
ATTACH;FMTTYPE=image/jpeg:https://www.namiccns.org/wp-content/uploads/2026/02/Newsletter-Headings-2026-02-24T143945.68-1.jpeg
END:VEVENT
END:VCALENDAR