BEGIN:VCALENDAR
VERSION:2.0
PRODID:-//NAMI CCNS - ECPv6.15.17.1//NONSGML v1.0//EN
CALSCALE:GREGORIAN
METHOD:PUBLISH
X-WR-CALNAME:NAMI CCNS
X-ORIGINAL-URL:https://www.namiccns.org
X-WR-CALDESC:Events for NAMI CCNS
REFRESH-INTERVAL;VALUE=DURATION:PT1H
X-Robots-Tag:noindex
X-PUBLISHED-TTL:PT1H
BEGIN:VTIMEZONE
TZID:America/Chicago
BEGIN:DAYLIGHT
TZOFFSETFROM:-0600
TZOFFSETTO:-0500
TZNAME:CDT
DTSTART:20240310T080000
END:DAYLIGHT
BEGIN:STANDARD
TZOFFSETFROM:-0500
TZOFFSETTO:-0600
TZNAME:CST
DTSTART:20241103T070000
END:STANDARD
BEGIN:DAYLIGHT
TZOFFSETFROM:-0600
TZOFFSETTO:-0500
TZNAME:CDT
DTSTART:20250309T080000
END:DAYLIGHT
BEGIN:STANDARD
TZOFFSETFROM:-0500
TZOFFSETTO:-0600
TZNAME:CST
DTSTART:20251102T070000
END:STANDARD
BEGIN:DAYLIGHT
TZOFFSETFROM:-0600
TZOFFSETTO:-0500
TZNAME:CDT
DTSTART:20260308T080000
END:DAYLIGHT
BEGIN:STANDARD
TZOFFSETFROM:-0500
TZOFFSETTO:-0600
TZNAME:CST
DTSTART:20261101T070000
END:STANDARD
END:VTIMEZONE
BEGIN:VEVENT
DTSTART;TZID=America/Chicago:20250925T180000
DTEND;TZID=America/Chicago:20250925T203000
DTSTAMP:20260421T164857
CREATED:20250731T210547Z
LAST-MODIFIED:20250731T210547Z
UID:10000060-1758823200-1758832200@www.namiccns.org
SUMMARY:Family-to-Family Class | September 25 - November 20\, 2025
DESCRIPTION:Do You Have A Loved One Living With Mental Illness?\nThe NAMI Family-to-Family Education Program is a FREE 9-week course for families and close friends of adults with mental illness. This course is taught by trained teachers who are also family members and know what it is like to have a loved one living with mental illness\, such as major depression\, bipolar disorder\, anxiety disorders\, schizophrenia\, and other disorders. \nMany family members describe this experience as life changing. Join the thousands of families\, just like yours\, who have gained information\, understanding\, and support. \nFall 2025 Class Details:\nDates: September 25\, 2025 – November 20\, 2025 \nLocation: Unitarian Church of Evanston (1330 Ridge Avenue\, Evanston\, IL 60201) \nTime: Thursdays @ 6:00 PM – 8:30 PM \nREGISTRATION IS CLOSED.
URL:https://www.namiccns.org/calendar/family-to-family-class-september-25-november-20-2025/2025-09-25/
LOCATION:Unitarian Church of Evanston\, 1330 Ridge Avenue\, Evanston\, Illinois\, 60201
CATEGORIES:Classes
ATTACH;FMTTYPE=image/jpeg:https://www.namiccns.org/wp-content/uploads/2025/07/Website-Headers-29.jpg
END:VEVENT
END:VCALENDAR